BEGIN:VCALENDAR
VERSION:2.0
PRODID:-//Société d&#039;art et d&#039;histoire de Beauport - ECPv6.15.20//NONSGML v1.0//EN
CALSCALE:GREGORIAN
METHOD:PUBLISH
X-ORIGINAL-URL:https://sahb.ca
X-WR-CALDESC:Évènements pour Société d&#039;art et d&#039;histoire de Beauport
REFRESH-INTERVAL;VALUE=DURATION:PT1H
X-Robots-Tag:noindex
X-PUBLISHED-TTL:PT1H
BEGIN:VTIMEZONE
TZID:America/New_York
BEGIN:DAYLIGHT
TZOFFSETFROM:-0500
TZOFFSETTO:-0400
TZNAME:EDT
DTSTART:20250309T070000
END:DAYLIGHT
BEGIN:STANDARD
TZOFFSETFROM:-0400
TZOFFSETTO:-0500
TZNAME:EST
DTSTART:20251102T060000
END:STANDARD
BEGIN:DAYLIGHT
TZOFFSETFROM:-0500
TZOFFSETTO:-0400
TZNAME:EDT
DTSTART:20260308T070000
END:DAYLIGHT
BEGIN:STANDARD
TZOFFSETFROM:-0400
TZOFFSETTO:-0500
TZNAME:EST
DTSTART:20261101T060000
END:STANDARD
BEGIN:DAYLIGHT
TZOFFSETFROM:-0500
TZOFFSETTO:-0400
TZNAME:EDT
DTSTART:20270314T070000
END:DAYLIGHT
BEGIN:STANDARD
TZOFFSETFROM:-0400
TZOFFSETTO:-0500
TZNAME:EST
DTSTART:20271107T060000
END:STANDARD
END:VTIMEZONE
BEGIN:VEVENT
DTSTART;TZID=America/New_York:20260410T183000
DTEND;TZID=America/New_York:20260501T213000
DTSTAMP:20260420T025450
CREATED:20260323T184034Z
LAST-MODIFIED:20260331T133048Z
UID:6399-1775845800-1777671000@sahb.ca
SUMMARY:ATELIERS | Pinceaux et vino avec l'artiste Georgette Bourgeois
DESCRIPTION:TOUS LES VENDREDIS SOIRS du 10 avril au 1er mai inclusivement \nAu cours de quatre ateliers d’environ 3h\, venez explorer les techniques des artistes phares de l’époque moderne de l’histoire de l’art avec l’artiste Georgette Bourgeois. \nDate : Les vendredis soirs du 10 avril au 1er mai inclusivement\nHeure : Début de l’activité à 18h30\nDurée : 3h\nLieu : Maison Tessier-dit-Laplante\, 2328 avenue Royale\nPublic : Adultes de tout les niveaux \nSur inscription : https://www.zeffy.com/fr-CA/ticketing/atelier-pinceaux-vino-printemps–2026 \nL’achat d’un billet comprend :\n– L’entrée pour les 4 ateliers\n– Le service de vin\n– Tout le matériel requis\n– Un vernissage de groupe à la fin de la session \n1ère séance (10 avril) : Gustav Klimt\n2e séance (17 avril) : Henri Matisse\n3e séance (24 avril) : Auguste Renoir\n4e séance (1er mai) : Pablo Picasso \nEmbarquez avec nous pour un voyage dans l’histoire de l’art avec l’artiste professionnelle Georgette Bourgeois !
URL:https://sahb.ca/calendrier/atelier-pinceaux-vino-avec-lartiste-georgette-bourgeois/
CATEGORIES:Ateliers
ATTACH;FMTTYPE=image/jpeg:https://sahb.ca/wp-content/uploads/Affiche-version-banniere-4-scaled.jpg
END:VEVENT
END:VCALENDAR